BEGIN:VCALENDAR
VERSION:2.0
PRODID:-//jEvents 2.0 for Joomla//EN
CALSCALE:GREGORIAN
METHOD:PUBLISH
BEGIN:VTIMEZONE
TZID:America/New_York
BEGIN:STANDARD
DTSTART:20211107T010000
RDATE:20220313T030000
TZOFFSETFROM:-0400
TZOFFSETTO:-0500
TZNAME:America/New_York EST
END:STANDARD
BEGIN:STANDARD
DTSTART:20221106T010000
RDATE:20230312T030000
TZOFFSETFROM:-0400
TZOFFSETTO:-0500
TZNAME:America/New_York EST
END:STANDARD
BEGIN:STANDARD
DTSTART:20231105T010000
RDATE:20240310T030000
TZOFFSETFROM:-0400
TZOFFSETTO:-0500
TZNAME:America/New_York EST
END:STANDARD
BEGIN:STANDARD
DTSTART:20241103T010000
RDATE:20250309T030000
TZOFFSETFROM:-0400
TZOFFSETTO:-0500
TZNAME:America/New_York EST
END:STANDARD
BEGIN:STANDARD
DTSTART:20251102T010000
RDATE:20260308T030000
TZOFFSETFROM:-0400
TZOFFSETTO:-0500
TZNAME:America/New_York EST
END:STANDARD
BEGIN:STANDARD
DTSTART:20261101T010000
RDATE:20270314T030000
TZOFFSETFROM:-0400
TZOFFSETTO:-0500
TZNAME:America/New_York EST
END:STANDARD
BEGIN:STANDARD
DTSTART:20271107T010000
RDATE:20280312T030000
TZOFFSETFROM:-0400
TZOFFSETTO:-0500
TZNAME:America/New_York EST
END:STANDARD
BEGIN:STANDARD
DTSTART:20281105T010000
RDATE:20290311T030000
TZOFFSETFROM:-0400
TZOFFSETTO:-0500
TZNAME:America/New_York EST
END:STANDARD
BEGIN:STANDARD
DTSTART:20291104T010000
RDATE:20300310T030000
TZOFFSETFROM:-0400
TZOFFSETTO:-0500
TZNAME:America/New_York EST
END:STANDARD
BEGIN:STANDARD
DTSTART:20301103T010000
RDATE:20310309T030000
TZOFFSETFROM:-0400
TZOFFSETTO:-0500
TZNAME:America/New_York EST
END:STANDARD
BEGIN:STANDARD
DTSTART:20311102T010000
RDATE:20320314T030000
TZOFFSETFROM:-0400
TZOFFSETTO:-0500
TZNAME:America/New_York EST
END:STANDARD
BEGIN:DAYLIGHT
DTSTART:20210713T120000
RDATE:20211107T010000
TZOFFSETFROM:-0500
TZOFFSETTO:-0400
TZNAME:America/New_York EDT
END:DAYLIGHT
BEGIN:DAYLIGHT
DTSTART:20220313T030000
RDATE:20221106T010000
TZOFFSETFROM:-0500
TZOFFSETTO:-0400
TZNAME:America/New_York EDT
END:DAYLIGHT
BEGIN:DAYLIGHT
DTSTART:20230312T030000
RDATE:20231105T010000
TZOFFSETFROM:-0500
TZOFFSETTO:-0400
TZNAME:America/New_York EDT
END:DAYLIGHT
BEGIN:DAYLIGHT
DTSTART:20240310T030000
RDATE:20241103T010000
TZOFFSETFROM:-0500
TZOFFSETTO:-0400
TZNAME:America/New_York EDT
END:DAYLIGHT
BEGIN:DAYLIGHT
DTSTART:20250309T030000
RDATE:20251102T010000
TZOFFSETFROM:-0500
TZOFFSETTO:-0400
TZNAME:America/New_York EDT
END:DAYLIGHT
BEGIN:DAYLIGHT
DTSTART:20260308T030000
RDATE:20261101T010000
TZOFFSETFROM:-0500
TZOFFSETTO:-0400
TZNAME:America/New_York EDT
END:DAYLIGHT
BEGIN:DAYLIGHT
DTSTART:20270314T030000
RDATE:20271107T010000
TZOFFSETFROM:-0500
TZOFFSETTO:-0400
TZNAME:America/New_York EDT
END:DAYLIGHT
BEGIN:DAYLIGHT
DTSTART:20280312T030000
RDATE:20281105T010000
TZOFFSETFROM:-0500
TZOFFSETTO:-0400
TZNAME:America/New_York EDT
END:DAYLIGHT
BEGIN:DAYLIGHT
DTSTART:20290311T030000
RDATE:20291104T010000
TZOFFSETFROM:-0500
TZOFFSETTO:-0400
TZNAME:America/New_York EDT
END:DAYLIGHT
BEGIN:DAYLIGHT
DTSTART:20300310T030000
RDATE:20301103T010000
TZOFFSETFROM:-0500
TZOFFSETTO:-0400
TZNAME:America/New_York EDT
END:DAYLIGHT
BEGIN:DAYLIGHT
DTSTART:20310309T030000
RDATE:20311102T010000
TZOFFSETFROM:-0500
TZOFFSETTO:-0400
TZNAME:America/New_York EDT
END:DAYLIGHT
END:VTIMEZONE
BEGIN:VEVENT
UID:09ab85086fc2ba87b8764e1511efd526
CATEGORIES:Public Events
CREATED:20220711T111240
SUMMARY:One Stop for employment & training/One Stop para empleo y capacitacion
LOCATION:3201 Atlantic Avenue\, Atlantic City\, NJ 08401
DESCRIPTION:<p> </p><div class="jev_evdt_desc"><p>Oceanside II Family Success Center in
  Collaboration with Atlantic County Workforce Development.<br />One stop Ca
 reer Center staff will provide information and individual counseling about 
 employment and training services available.</p><p>July 14th and July 28th 1
 2pm-3pm</p><p>Oceanside II Family Success Center en colaboracion con la jun
 ta de desarrollo de la fuerza laboral de Atlantic County.<br />El personal 
 de One Stop Career Center proveera informacion y consejeria individual acer
 a de empleos y servicios de capacitacion disponible.</p><p>14 y 28 de Julio
  12pm-3pm</p><p>Register in advance by calling: 609-594-4990, emailing: <jo
 omla-hidden-mail  is-link="1" is-email="1" first="YXRsYW50aWNvY2VhbnNpZGUy"
  last="Z21haWwuY29t" text="YXRsYW50aWNvY2VhbnNpZGUyQGdtYWlsLmNvbQ==" base="
 " >This email address is being protected from spambots. You need JavaScript
  enabled to view it.</joomla-hidden-mail> or completing the online registra
 tion form </p><p>Si desea participar favor de registrarse con antipacion ll
 amando al: 609-594-4990, enviando un correo electronico a: <joomla-hidden-m
 ail  is-link="1" is-email="1" first="YXRsYW50aWNvY2VhbnNpZGUy" last="Z21haW
 wuY29t" text="YXRsYW50aWNvY2VhbnNpZGUyQGdtYWlsLmNvbQ==" base="" >This email
  address is being protected from spambots. You need JavaScript enabled to v
 iew it.</joomla-hidden-mail>, o completando nuestro formulario de registro 
 en linea</p></div>
X-EXTRAINFO:https://forms.office.com/pages/responsepage.aspx?id=J7FaA3Gt-k-8SQSjjJEnGoI
 cUxyxzNZHkXBzLnEkNOxUQTcwNVBMUTAzSVhXM0tSSFZPT0tYMEdYNiQlQCN0PWcu
DTSTAMP:20260422T105915Z
DTSTART;TZID=America/New_York:20220714T120000
DTEND;TZID=America/New_York:20220714T150000
SEQUENCE:0
TRANSP:OPAQUE
END:VEVENT
END:VCALENDAR