BEGIN:VCALENDAR
VERSION:2.0
PRODID:-//jEvents 2.0 for Joomla//EN
CALSCALE:GREGORIAN
METHOD:PUBLISH
BEGIN:VTIMEZONE
TZID:America/New_York
BEGIN:STANDARD
DTSTART:20230109T000000
RDATE:20230312T030000
TZOFFSETFROM:-0400
TZOFFSETTO:-0500
TZNAME:America/New_York EST
END:STANDARD
BEGIN:STANDARD
DTSTART:20231105T010000
RDATE:20240310T030000
TZOFFSETFROM:-0400
TZOFFSETTO:-0500
TZNAME:America/New_York EST
END:STANDARD
BEGIN:STANDARD
DTSTART:20241103T010000
RDATE:20250309T030000
TZOFFSETFROM:-0400
TZOFFSETTO:-0500
TZNAME:America/New_York EST
END:STANDARD
BEGIN:STANDARD
DTSTART:20251102T010000
RDATE:20260308T030000
TZOFFSETFROM:-0400
TZOFFSETTO:-0500
TZNAME:America/New_York EST
END:STANDARD
BEGIN:STANDARD
DTSTART:20261101T010000
RDATE:20270314T030000
TZOFFSETFROM:-0400
TZOFFSETTO:-0500
TZNAME:America/New_York EST
END:STANDARD
BEGIN:STANDARD
DTSTART:20271107T010000
RDATE:20280312T030000
TZOFFSETFROM:-0400
TZOFFSETTO:-0500
TZNAME:America/New_York EST
END:STANDARD
BEGIN:STANDARD
DTSTART:20281105T010000
RDATE:20290311T030000
TZOFFSETFROM:-0400
TZOFFSETTO:-0500
TZNAME:America/New_York EST
END:STANDARD
BEGIN:STANDARD
DTSTART:20291104T010000
RDATE:20300310T030000
TZOFFSETFROM:-0400
TZOFFSETTO:-0500
TZNAME:America/New_York EST
END:STANDARD
BEGIN:STANDARD
DTSTART:20301103T010000
RDATE:20310309T030000
TZOFFSETFROM:-0400
TZOFFSETTO:-0500
TZNAME:America/New_York EST
END:STANDARD
BEGIN:STANDARD
DTSTART:20311102T010000
RDATE:20320314T030000
TZOFFSETFROM:-0400
TZOFFSETTO:-0500
TZNAME:America/New_York EST
END:STANDARD
BEGIN:DAYLIGHT
DTSTART:20230312T030000
RDATE:20231105T010000
TZOFFSETFROM:-0500
TZOFFSETTO:-0400
TZNAME:America/New_York EDT
END:DAYLIGHT
BEGIN:DAYLIGHT
DTSTART:20240310T030000
RDATE:20241103T010000
TZOFFSETFROM:-0500
TZOFFSETTO:-0400
TZNAME:America/New_York EDT
END:DAYLIGHT
BEGIN:DAYLIGHT
DTSTART:20250309T030000
RDATE:20251102T010000
TZOFFSETFROM:-0500
TZOFFSETTO:-0400
TZNAME:America/New_York EDT
END:DAYLIGHT
BEGIN:DAYLIGHT
DTSTART:20260308T030000
RDATE:20261101T010000
TZOFFSETFROM:-0500
TZOFFSETTO:-0400
TZNAME:America/New_York EDT
END:DAYLIGHT
BEGIN:DAYLIGHT
DTSTART:20270314T030000
RDATE:20271107T010000
TZOFFSETFROM:-0500
TZOFFSETTO:-0400
TZNAME:America/New_York EDT
END:DAYLIGHT
BEGIN:DAYLIGHT
DTSTART:20280312T030000
RDATE:20281105T010000
TZOFFSETFROM:-0500
TZOFFSETTO:-0400
TZNAME:America/New_York EDT
END:DAYLIGHT
BEGIN:DAYLIGHT
DTSTART:20290311T030000
RDATE:20291104T010000
TZOFFSETFROM:-0500
TZOFFSETTO:-0400
TZNAME:America/New_York EDT
END:DAYLIGHT
BEGIN:DAYLIGHT
DTSTART:20300310T030000
RDATE:20301103T010000
TZOFFSETFROM:-0500
TZOFFSETTO:-0400
TZNAME:America/New_York EDT
END:DAYLIGHT
BEGIN:DAYLIGHT
DTSTART:20310309T030000
RDATE:20311102T010000
TZOFFSETFROM:-0500
TZOFFSETTO:-0400
TZNAME:America/New_York EDT
END:DAYLIGHT
END:VTIMEZONE
BEGIN:VEVENT
UID:39f870aef5afb4c1a09d5d80d2fb14bc
CATEGORIES:Public Events
CREATED:20240110T100521
SUMMARY:FREE Webinars Traumatic Brain Injury Fund
LOCATION:Zoom
DESCRIPTION:<p>BIANJ hosts a series of webinars throughout the year and maintains a lib
 rary relevant to survivors, caregivers, service providers, and everyone in 
 between. View the list below to register for upcoming webinars, or view pas
 t presentations. If you’re in need of further assistance, please give our h
 elpline a call at 1-800-669-4323.</p><p> </p><div id="1699290561324-7a7cb0d
 2-ae34" class="vc_tta-panel" data-vc-content=".vc_tta-panel-body"><div clas
 s="vc_tta-panel-heading"><h4 class="vc_tta-panel-title vc_tta-controls-icon
 -position-left"><a href="https://www.bianj.org/webinars/#1699290561324-7a7c
 b0d2-ae34" data-vc-accordion="" data-vc-container=".vc_tta-container"><span
  class="vc_tta-title-text">January 18: Overview of the Traumatic Brain Inju
 ry Fund</span></a></h4><div class="wpb_text_column wpb_content_element "><d
 iv class="wpb_wrapper"><p><u>Overview of the Traumatic Brain Injury Fund </
 u></p><p>January 18, 2024 from 12-1pm<br />Presenters: Susannah Combs, Mana
 ger, Traumatic Brain Injury Fund, <joomla-hidden-mail  is-link="1" is-email
 ="1" first="c3VzYW5uYWguY29tYnM=" last="ZGhzLm5qLmdvdg==" text="c3VzYW5uYWg
 uY29tYnNAZGhzLm5qLmdvdg==" base="" >This email address is being protected f
 rom spambots. You need JavaScript enabled to view it.</joomla-hidden-mail><
 /p><p> </p></div></div></div></div><div id="1692387696802-bc75c65f-d512" cl
 ass="vc_tta-panel" data-vc-content=".vc_tta-panel-body"><div class="vc_tta-
 panel-heading"><h4 class="vc_tta-panel-title vc_tta-controls-icon-position-
 left"><a href="https://www.bianj.org/webinars/#1692387696802-bc75c65f-d512"
  data-vc-accordion="" data-vc-container=".vc_tta-container"><span class="vc
 _tta-title-text">February 13: Suicide &amp; TBI</span></a></h4><div class="
 wpb_text_column wpb_content_element "><div class="wpb_wrapper"><p>Untanglin
 g the Complex Relationship between Suicide and Traumatic Brain Injury<br />
 Presented by Matthew Peters, MD</p><p><em>February 13, 2024 at 12:00pm</em>
 </p><p> </p></div></div></div></div><div id="1701370996337-fd289da1-608a" c
 lass="vc_tta-panel" data-vc-content=".vc_tta-panel-body"><div class="vc_tta
 -panel-heading"><h4 class="vc_tta-panel-title vc_tta-controls-icon-position
 -left"><a href="https://www.bianj.org/webinars/#1701370996337-fd289da1-608a
 " data-vc-accordion="" data-vc-container=".vc_tta-container"><span class="v
 c_tta-title-text">March 20: Effective Community Reintegration Post Brain In
 jury</span></a></h4><div class="wpb_text_column wpb_content_element "><div 
 class="wpb_wrapper"><p><u>Effective Community Reintegration Post Brain Inju
 ry<br /></u></p><p>Presented by Melissa Moyer</p><p><em>March 20, 2024 at 1
 pm</em></p><p> </p></div></div></div></div><div id="1701710770085-f2de5055-
 3be3" class="vc_tta-panel" data-vc-content=".vc_tta-panel-body"><div class=
 "vc_tta-panel-heading"><h4 class="vc_tta-panel-title vc_tta-controls-icon-p
 osition-left"><a href="https://www.bianj.org/webinars/#1701710770085-f2de50
 55-3be3" data-vc-accordion="" data-vc-container=".vc_tta-container"><span c
 lass="vc_tta-title-text">April 16: Aphasia- A Loss of Language Not Intellec
 t</span></a></h4><div class="wpb_text_column wpb_content_element "><div cla
 ss="wpb_wrapper"><p>Aphasia: A Loss of Language Not Intellect</p><p>Present
 ed by Meredith Gemeiner</p><p><em>April 16, 2024 at 12 pm</em></p></div></d
 iv></div></div>
CONTACT:1-800-669-4323
X-EXTRAINFO:https://www.bianj.org/resources/
DTSTAMP:20260425T152306Z
DTSTART;TZID=America/New_York;VALUE=DATE:20240110
DTEND;TZID=America/New_York;VALUE=DATE:20240416
SEQUENCE:0
TRANSP:OPAQUE
END:VEVENT
END:VCALENDAR