BEGIN:VCALENDAR
VERSION:2.0
PRODID:-//jEvents 2.0 for Joomla//EN
CALSCALE:GREGORIAN
METHOD:PUBLISH
BEGIN:VTIMEZONE
TZID:America/New_York
BEGIN:STANDARD
DTSTART:20240118T140000
RDATE:20240310T030000
TZOFFSETFROM:-0400
TZOFFSETTO:-0500
TZNAME:America/New_York EST
END:STANDARD
BEGIN:STANDARD
DTSTART:20241103T010000
RDATE:20250309T030000
TZOFFSETFROM:-0400
TZOFFSETTO:-0500
TZNAME:America/New_York EST
END:STANDARD
BEGIN:STANDARD
DTSTART:20251102T010000
RDATE:20260308T030000
TZOFFSETFROM:-0400
TZOFFSETTO:-0500
TZNAME:America/New_York EST
END:STANDARD
BEGIN:STANDARD
DTSTART:20261101T010000
RDATE:20270314T030000
TZOFFSETFROM:-0400
TZOFFSETTO:-0500
TZNAME:America/New_York EST
END:STANDARD
BEGIN:STANDARD
DTSTART:20271107T010000
RDATE:20280312T030000
TZOFFSETFROM:-0400
TZOFFSETTO:-0500
TZNAME:America/New_York EST
END:STANDARD
BEGIN:STANDARD
DTSTART:20281105T010000
RDATE:20290311T030000
TZOFFSETFROM:-0400
TZOFFSETTO:-0500
TZNAME:America/New_York EST
END:STANDARD
BEGIN:STANDARD
DTSTART:20291104T010000
RDATE:20300310T030000
TZOFFSETFROM:-0400
TZOFFSETTO:-0500
TZNAME:America/New_York EST
END:STANDARD
BEGIN:STANDARD
DTSTART:20301103T010000
RDATE:20310309T030000
TZOFFSETFROM:-0400
TZOFFSETTO:-0500
TZNAME:America/New_York EST
END:STANDARD
BEGIN:STANDARD
DTSTART:20311102T010000
RDATE:20320314T030000
TZOFFSETFROM:-0400
TZOFFSETTO:-0500
TZNAME:America/New_York EST
END:STANDARD
BEGIN:DAYLIGHT
DTSTART:20240310T030000
RDATE:20241103T010000
TZOFFSETFROM:-0500
TZOFFSETTO:-0400
TZNAME:America/New_York EDT
END:DAYLIGHT
BEGIN:DAYLIGHT
DTSTART:20250309T030000
RDATE:20251102T010000
TZOFFSETFROM:-0500
TZOFFSETTO:-0400
TZNAME:America/New_York EDT
END:DAYLIGHT
BEGIN:DAYLIGHT
DTSTART:20260308T030000
RDATE:20261101T010000
TZOFFSETFROM:-0500
TZOFFSETTO:-0400
TZNAME:America/New_York EDT
END:DAYLIGHT
BEGIN:DAYLIGHT
DTSTART:20270314T030000
RDATE:20271107T010000
TZOFFSETFROM:-0500
TZOFFSETTO:-0400
TZNAME:America/New_York EDT
END:DAYLIGHT
BEGIN:DAYLIGHT
DTSTART:20280312T030000
RDATE:20281105T010000
TZOFFSETFROM:-0500
TZOFFSETTO:-0400
TZNAME:America/New_York EDT
END:DAYLIGHT
BEGIN:DAYLIGHT
DTSTART:20290311T030000
RDATE:20291104T010000
TZOFFSETFROM:-0500
TZOFFSETTO:-0400
TZNAME:America/New_York EDT
END:DAYLIGHT
BEGIN:DAYLIGHT
DTSTART:20300310T030000
RDATE:20301103T010000
TZOFFSETFROM:-0500
TZOFFSETTO:-0400
TZNAME:America/New_York EDT
END:DAYLIGHT
BEGIN:DAYLIGHT
DTSTART:20310309T030000
RDATE:20311102T010000
TZOFFSETFROM:-0500
TZOFFSETTO:-0400
TZNAME:America/New_York EDT
END:DAYLIGHT
END:VTIMEZONE
BEGIN:VEVENT
UID:24be4fdf2c7897b1215a40eba0f52d63
CATEGORIES:Public Events
CREATED:20250110T091328
SUMMARY:Dr. King Read-in & Luncheon
LOCATION:2200 Fairmount Avenue\, Atlantic City\, NJ 08401
DESCRIPTION:This year's read-in, which will be followed by a free luncheon for attendee
 s, will be held Saturday, January 18th, from 2-4pm at Noyes Arts Garage (22
 00 Fairmount Avenue) The library will provide free parking for attendees at
  the Wave Garage. \nRegistration is required for this program.\nTo register
 , scan the QR code on the library's Discovery, and fill out the online form
 ,\nor, email This email address is being protected from spambots. You need 
 JavaScript enabled to view it., or call (609) 345-2269 ext 3066\n
X-ALT-DESC;FMTTYPE=text/html:<p>This year's read-in, which will be followed by a free luncheon for atten
 dees, will be held <em>Saturday, January 18th, from 2-4pm at Noyes Arts Gar
 age (2200 Fairmount Avenue</em>) The library will provide free parking for 
 attendees at the Wave Garage. </p><p><strong>Registration is required for t
 his program.</strong></p><p>To register, scan the QR code on the library's 
 <em>Discovery</em>, and fill out the online form,</p><p>or, email <joomla-h
 idden-mail  is-link="1" is-email="1" first="am1vcmlsbG8=" last="YWNmcGwub3J
 n" text="am1vcmlsbG9AYWNmcGwub3Jn" base="" >This email address is being pro
 tected from spambots. You need JavaScript enabled to view it.</joomla-hidde
 n-mail>, or call (609) 345-2269 ext 3066</p>
CONTACT:This email address is being protected from spambots. You need JavaScript enabled to view it., 609-345-2269 ext 3066
DTSTAMP:20260426T000034Z
DTSTART;TZID=America/New_York:20250118T140000
DTEND;TZID=America/New_York:20250118T160000
SEQUENCE:0
TRANSP:OPAQUE
END:VEVENT
END:VCALENDAR