BEGIN:VCALENDAR
VERSION:2.0
PRODID:-//jEvents 2.0 for Joomla//EN
CALSCALE:GREGORIAN
METHOD:PUBLISH
BEGIN:VTIMEZONE
TZID:America/New_York
BEGIN:STANDARD
DTSTART:20241103T010000
RDATE:20250309T030000
TZOFFSETFROM:-0400
TZOFFSETTO:-0500
TZNAME:America/New_York EST
END:STANDARD
BEGIN:STANDARD
DTSTART:20251102T010000
RDATE:20260308T030000
TZOFFSETFROM:-0400
TZOFFSETTO:-0500
TZNAME:America/New_York EST
END:STANDARD
BEGIN:STANDARD
DTSTART:20261101T010000
RDATE:20270314T030000
TZOFFSETFROM:-0400
TZOFFSETTO:-0500
TZNAME:America/New_York EST
END:STANDARD
BEGIN:STANDARD
DTSTART:20271107T010000
RDATE:20280312T030000
TZOFFSETFROM:-0400
TZOFFSETTO:-0500
TZNAME:America/New_York EST
END:STANDARD
BEGIN:STANDARD
DTSTART:20281105T010000
RDATE:20290311T030000
TZOFFSETFROM:-0400
TZOFFSETTO:-0500
TZNAME:America/New_York EST
END:STANDARD
BEGIN:STANDARD
DTSTART:20291104T010000
RDATE:20300310T030000
TZOFFSETFROM:-0400
TZOFFSETTO:-0500
TZNAME:America/New_York EST
END:STANDARD
BEGIN:STANDARD
DTSTART:20301103T010000
RDATE:20310309T030000
TZOFFSETFROM:-0400
TZOFFSETTO:-0500
TZNAME:America/New_York EST
END:STANDARD
BEGIN:STANDARD
DTSTART:20311102T010000
RDATE:20320314T030000
TZOFFSETFROM:-0400
TZOFFSETTO:-0500
TZNAME:America/New_York EST
END:STANDARD
BEGIN:DAYLIGHT
DTSTART:20240423T090000
RDATE:20241103T010000
TZOFFSETFROM:-0500
TZOFFSETTO:-0400
TZNAME:America/New_York EDT
END:DAYLIGHT
BEGIN:DAYLIGHT
DTSTART:20250309T030000
RDATE:20251102T010000
TZOFFSETFROM:-0500
TZOFFSETTO:-0400
TZNAME:America/New_York EDT
END:DAYLIGHT
BEGIN:DAYLIGHT
DTSTART:20260308T030000
RDATE:20261101T010000
TZOFFSETFROM:-0500
TZOFFSETTO:-0400
TZNAME:America/New_York EDT
END:DAYLIGHT
BEGIN:DAYLIGHT
DTSTART:20270314T030000
RDATE:20271107T010000
TZOFFSETFROM:-0500
TZOFFSETTO:-0400
TZNAME:America/New_York EDT
END:DAYLIGHT
BEGIN:DAYLIGHT
DTSTART:20280312T030000
RDATE:20281105T010000
TZOFFSETFROM:-0500
TZOFFSETTO:-0400
TZNAME:America/New_York EDT
END:DAYLIGHT
BEGIN:DAYLIGHT
DTSTART:20290311T030000
RDATE:20291104T010000
TZOFFSETFROM:-0500
TZOFFSETTO:-0400
TZNAME:America/New_York EDT
END:DAYLIGHT
BEGIN:DAYLIGHT
DTSTART:20300310T030000
RDATE:20301103T010000
TZOFFSETFROM:-0500
TZOFFSETTO:-0400
TZNAME:America/New_York EDT
END:DAYLIGHT
BEGIN:DAYLIGHT
DTSTART:20310309T030000
RDATE:20311102T010000
TZOFFSETFROM:-0500
TZOFFSETTO:-0400
TZNAME:America/New_York EDT
END:DAYLIGHT
END:VTIMEZONE
BEGIN:VEVENT
UID:766923871d4b7169572007159d866abc
CATEGORIES:Public Events
CREATED:20250123T121342
SUMMARY:Casino Career Fair
LOCATION:Casino Control Commission- 1325 Boardwalk &amp; Tennessee Ave.\, Atlantic C
 ity\, NJ 08401
DESCRIPTION:<p>Casino Career Fair 2025</p><p>All job seekers are welcome to attend, sub
 mit resumes, and talk with casino recruiters</p><p>Veteran resources and se
 rvices provided in collaboration with prominent veteran organizations.</p><
 p>Pre-Register at <a href="https://www.njccc.gov/vets">www.njccc.gov/vets</
 a></p><p> </p><p>To schedule an appointment for resume assistance, contact:
  James Mosby (609) 813-3907 or <joomla-hidden-mail  is-link="1" is-email="1
 " first="amFtZXMubW9zYnk=" last="ZG9sLm5qLmdvdg==" text="amFtZXMubW9zYnlAZG
 9sLm5qLmdvdg==" base="" >This email address is being protected from spambot
 s. You need JavaScript enabled to view it.</joomla-hidden-mail></p><p>For m
 ore information contact:</p><p>Patricia Tatum (609) 703-2467 or <joomla-hid
 den-mail  is-link="1" is-email="1" first="cC50YXR1bQ==" last="bmphbWVyaWNhb
 mxlZ2lvbi5vcmc=" text="cC50YXR1bUBuamFtZXJpY2FubGVnaW9uLm9yZw==" base="" >T
 his email address is being protected from spambots. You need JavaScript ena
 bled to view it.</joomla-hidden-mail></p><p>Bob Looby (909) 894-0746 <jooml
 a-hidden-mail  is-link="1" is-email="1" first="ci5sb29ieQ==" last="bmphbWVy
 aWNhbmxlZ2lvbi5vcmc=" text="ci5sb29ieUBuamFtZXJpY2FubGVnaW9uLm9yZw==" base=
 "" >This email address is being protected from spambots. You need JavaScrip
 t enabled to view it.</joomla-hidden-mail></p>
CONTACT:609-703-2467 | 908-894-0746 | This email address is being protected from spambots. You need JavaScript enabled to view it. | This email address is being protected from spambots. You need JavaScript enabled to view it. 
X-EXTRAINFO:www.njccc.gov/vets
DTSTAMP:20260425T094920Z
DTSTART;TZID=America/New_York:20250424T090000
DTEND;TZID=America/New_York:20250424T130000
SEQUENCE:0
TRANSP:OPAQUE
END:VEVENT
END:VCALENDAR