BEGIN:VCALENDAR
VERSION:2.0
PRODID:-//jEvents 2.0 for Joomla//EN
CALSCALE:GREGORIAN
METHOD:PUBLISH
BEGIN:VTIMEZONE
TZID:America/New_York
BEGIN:STANDARD
DTSTART:20230115T160000
RDATE:20230312T030000
TZOFFSETFROM:-0400
TZOFFSETTO:-0500
TZNAME:America/New_York EST
END:STANDARD
BEGIN:STANDARD
DTSTART:20231105T010000
RDATE:20240310T030000
TZOFFSETFROM:-0400
TZOFFSETTO:-0500
TZNAME:America/New_York EST
END:STANDARD
BEGIN:STANDARD
DTSTART:20241103T010000
RDATE:20250309T030000
TZOFFSETFROM:-0400
TZOFFSETTO:-0500
TZNAME:America/New_York EST
END:STANDARD
BEGIN:STANDARD
DTSTART:20251102T010000
RDATE:20260308T030000
TZOFFSETFROM:-0400
TZOFFSETTO:-0500
TZNAME:America/New_York EST
END:STANDARD
BEGIN:STANDARD
DTSTART:20261101T010000
RDATE:20270314T030000
TZOFFSETFROM:-0400
TZOFFSETTO:-0500
TZNAME:America/New_York EST
END:STANDARD
BEGIN:STANDARD
DTSTART:20271107T010000
RDATE:20280312T030000
TZOFFSETFROM:-0400
TZOFFSETTO:-0500
TZNAME:America/New_York EST
END:STANDARD
BEGIN:STANDARD
DTSTART:20281105T010000
RDATE:20290311T030000
TZOFFSETFROM:-0400
TZOFFSETTO:-0500
TZNAME:America/New_York EST
END:STANDARD
BEGIN:STANDARD
DTSTART:20291104T010000
RDATE:20300310T030000
TZOFFSETFROM:-0400
TZOFFSETTO:-0500
TZNAME:America/New_York EST
END:STANDARD
BEGIN:STANDARD
DTSTART:20301103T010000
RDATE:20310309T030000
TZOFFSETFROM:-0400
TZOFFSETTO:-0500
TZNAME:America/New_York EST
END:STANDARD
BEGIN:STANDARD
DTSTART:20311102T010000
RDATE:20320314T030000
TZOFFSETFROM:-0400
TZOFFSETTO:-0500
TZNAME:America/New_York EST
END:STANDARD
BEGIN:DAYLIGHT
DTSTART:20230312T030000
RDATE:20231105T010000
TZOFFSETFROM:-0500
TZOFFSETTO:-0400
TZNAME:America/New_York EDT
END:DAYLIGHT
BEGIN:DAYLIGHT
DTSTART:20240310T030000
RDATE:20241103T010000
TZOFFSETFROM:-0500
TZOFFSETTO:-0400
TZNAME:America/New_York EDT
END:DAYLIGHT
BEGIN:DAYLIGHT
DTSTART:20250309T030000
RDATE:20251102T010000
TZOFFSETFROM:-0500
TZOFFSETTO:-0400
TZNAME:America/New_York EDT
END:DAYLIGHT
BEGIN:DAYLIGHT
DTSTART:20260308T030000
RDATE:20261101T010000
TZOFFSETFROM:-0500
TZOFFSETTO:-0400
TZNAME:America/New_York EDT
END:DAYLIGHT
BEGIN:DAYLIGHT
DTSTART:20270314T030000
RDATE:20271107T010000
TZOFFSETFROM:-0500
TZOFFSETTO:-0400
TZNAME:America/New_York EDT
END:DAYLIGHT
BEGIN:DAYLIGHT
DTSTART:20280312T030000
RDATE:20281105T010000
TZOFFSETFROM:-0500
TZOFFSETTO:-0400
TZNAME:America/New_York EDT
END:DAYLIGHT
BEGIN:DAYLIGHT
DTSTART:20290311T030000
RDATE:20291104T010000
TZOFFSETFROM:-0500
TZOFFSETTO:-0400
TZNAME:America/New_York EDT
END:DAYLIGHT
BEGIN:DAYLIGHT
DTSTART:20300310T030000
RDATE:20301103T010000
TZOFFSETFROM:-0500
TZOFFSETTO:-0400
TZNAME:America/New_York EDT
END:DAYLIGHT
BEGIN:DAYLIGHT
DTSTART:20310309T030000
RDATE:20311102T010000
TZOFFSETFROM:-0500
TZOFFSETTO:-0400
TZNAME:America/New_York EDT
END:DAYLIGHT
END:VTIMEZONE
BEGIN:VEVENT
UID:5dfb7c3c1442eafd507fc5c0506a8a1e
CATEGORIES:Public Meetings
CREATED:20231120T132510
SUMMARY:Parent Support Group | Grupo de Apoyo para Padres
LOCATION:Oceanside II Family Success Center | 3201 Atlantic Avenue\, Atlantic City\,
  NJ 08401
DESCRIPTION:Calling all Parents! | Llamando a todos los padres!\nOceanside II Family Su
 ccess Center will be hosting a monthly Parent Support Group that aims to pr
 ovide mutual support, parent leadership and advocacy development. We want t
 o hear from you! Let us encourage each other with open discussion about the
  quality of life, social and emotional support, and parenting challenges an
 d strategies.\n**Childcare Provided**\nOceanside II Family Success Center o
 rganizara mensualmente un grupo de apoyo para padres que tiene como objecti
 vo brindar apoyo mutuo, liderazgo de padrs y desarrollo de defensa. Queremo
 s escuchar de ti! Animemonos unos a otros con una discusion abierta sobre l
 a calidad de vida, el apoyo social y emocional, y los desafios y estrategia
 s de la crianza.\n**Cuidado de ninos proporcionado**\n
X-ALT-DESC;FMTTYPE=text/html:<p>Calling all Parents! | Llamando a todos los padres!</p><p>Oceanside II F
 amily Success Center will be hosting a monthly Parent Support Group that ai
 ms to provide mutual support, parent leadership and advocacy development. W
 e want to hear from you! Let us encourage each other with open discussion a
 bout the quality of life, social and emotional support, and parenting chall
 enges and strategies.</p><p>**Childcare Provided**</p><p>Oceanside II Famil
 y Success Center organizara mensualmente un grupo de apoyo para padres que 
 tiene como objectivo brindar apoyo mutuo, liderazgo de padrs y desarrollo d
 e defensa. Queremos escuchar de ti! Animemonos unos a otros con una discusi
 on abierta sobre la calidad de vida, el apoyo social y emocional, y los des
 afios y estrategias de la crianza.</p><p>**Cuidado de ninos proporcionado**
 </p>
CONTACT:609-594-4990 | This email address is being protected from spambots. You need JavaScript enabled to view it.
X-EXTRAINFO:https://forms.office.com/pages/responsepage.aspx?id=J7FaA3Gt-k-8SQSjjJEnGoI
 cUxyxzNZHkXBzLnEkNOxUMFc1NUVZNzdPOFFEWk9XVjRVTkg3VVhHSCQlQCN0PWcu
DTSTAMP:20260425T170059Z
DTSTART;TZID=America/New_York:20240116T160000
DTEND;TZID=America/New_York:20240116T170000
SEQUENCE:0
TRANSP:OPAQUE
END:VEVENT
END:VCALENDAR